BEGIN:VCALENDAR
VERSION:2.0
PRODID:-//AUGIAS.Net - ECPv6.10.3//NONSGML v1.0//EN
CALSCALE:GREGORIAN
METHOD:PUBLISH
X-WR-CALNAME:AUGIAS.Net
X-ORIGINAL-URL:https://www.augias.net
X-WR-CALDESC:Veranstaltungen für AUGIAS.Net
REFRESH-INTERVAL;VALUE=DURATION:PT1H
X-Robots-Tag:noindex
X-PUBLISHED-TTL:PT1H
BEGIN:VTIMEZONE
TZID:Europe/Berlin
BEGIN:DAYLIGHT
TZOFFSETFROM:+0100
TZOFFSETTO:+0200
TZNAME:CEST
DTSTART:20260329T010000
END:DAYLIGHT
BEGIN:STANDARD
TZOFFSETFROM:+0200
TZOFFSETTO:+0100
TZNAME:CET
DTSTART:20261025T010000
END:STANDARD
END:VTIMEZONE
BEGIN:VEVENT
DTSTART;VALUE=DATE:20260422
DTEND;VALUE=DATE:20260424
DTSTAMP:20260422T125433
CREATED:20260415T070427Z
LAST-MODIFIED:20260417T090924Z
UID:22636-1776816000-1776988799@www.augias.net
SUMMARY:28. Brandenburgischer Archivtag
DESCRIPTION:Der 28. Brandenburgische Archivtag findet am 21. und 22. April 2026 im Spree-Kino Spremberg statt. Das Rahmenthema des diesjährigen Archivtags lautet Machen\, Messen\, Managen. Archivarbeit organisieren und steuern. \nAUGIAS-Data ist mit einem Messestand vor Ort vertreten. \nProgramm
URL:https://www.augias.net/event/28-brandenburgischer-archivtag/
LOCATION:Spreekino\, Am Markt 5\, 03130 Spremberg
END:VEVENT
END:VCALENDAR