BEGIN:VCALENDAR
VERSION:2.0
PRODID:-//AUGIAS.Net - ECPv6.10.3//NONSGML v1.0//EN
CALSCALE:GREGORIAN
METHOD:PUBLISH
X-ORIGINAL-URL:https://www.augias.net
X-WR-CALDESC:Veranstaltungen für AUGIAS.Net
REFRESH-INTERVAL;VALUE=DURATION:PT1H
X-Robots-Tag:noindex
X-PUBLISHED-TTL:PT1H
BEGIN:VTIMEZONE
TZID:Europe/Berlin
BEGIN:DAYLIGHT
TZOFFSETFROM:+0100
TZOFFSETTO:+0200
TZNAME:CEST
DTSTART:20260329T010000
END:DAYLIGHT
BEGIN:STANDARD
TZOFFSETFROM:+0200
TZOFFSETTO:+0100
TZNAME:CET
DTSTART:20261025T010000
END:STANDARD
END:VTIMEZONE
BEGIN:VEVENT
DTSTART;VALUE=DATE:20260422
DTEND;VALUE=DATE:20260424
DTSTAMP:20260419T182930
CREATED:20260415T070427Z
LAST-MODIFIED:20260417T090924Z
UID:22636-1776816000-1776988799@www.augias.net
SUMMARY:28. Brandenburgischer Archivtag
DESCRIPTION:Der 28. Brandenburgische Archivtag findet am 21. und 22. April 2026 im Spree-Kino Spremberg statt. Das Rahmenthema des diesjährigen Archivtags lautet Machen\, Messen\, Managen. Archivarbeit organisieren und steuern. \nAUGIAS-Data ist mit einem Messestand vor Ort vertreten. \nProgramm
URL:https://www.augias.net/event/28-brandenburgischer-archivtag/
LOCATION:Spreekino\, Am Markt 5\, 03130 Spremberg
END:VEVENT
BEGIN:VEVENT
DTSTART;TZID=Europe/Berlin:20260429T093000
DTEND;TZID=Europe/Berlin:20260429T160000
DTSTAMP:20260419T182930
CREATED:20260415T102346Z
LAST-MODIFIED:20260417T091152Z
UID:22648-1777455000-1777478400@www.augias.net
SUMMARY:AUGIAS-Anwendertreffen in Münster
DESCRIPTION:In diesem Monat haben Sie wieder die Möglichkeit\, sich über aktuelle Entwicklungen zu informieren und sich mit anderen Anwenderinnen und Anwendern auszutauschen. Das Treffen findet am 29. April von 9:30 bis 16 Uhr im Hofsaal des Heereman’schen Hofs in Münster statt. \nBeim Anwendertreffen stellen wir Ihnen aktuelle und geplante Programmentwicklungen vor und geben Ihnen Einblicke in laufende und zukünftige Projekte. Sie haben Gelegenheit\, sich mit Ihren Fragen\, Anregungen und Wünschen direkt an unsere Mitarbeiterinnen und Mitarbeiter zu wenden. \nDie folgenden Themen stellen wir Ihnen vor: \n\nProjekt Automatisierte Bilderkennung in AUGIAS-Archiv\nVorschau AUGIAS-ZwischenArchiv 11\nErfahrungsaustausch zu AUGIAS-Connect\, AUGIAS-Ingest\, AUGIAS-Transfer\, EAD und GND-Anbindung\nVerzeichnung im Browser: Vorstellung unseres neuen WebClients\nFINDBUCH.Net 49 Digitaler Lesesaal: Stand der Dinge\n\nWir freuen uns auf spannende Gespräche und den persönlichen Kontakt mit Ihnen! \nZur Anmeldung
URL:https://www.augias.net/event/augias-anwendertreffen-in-muenster/
LOCATION:Heereman’scher Hof\, Königsstraße 47\, 48143 Münster
END:VEVENT
BEGIN:VEVENT
DTSTART;VALUE=DATE:20260506
DTEND;VALUE=DATE:20260507
DTSTAMP:20260419T182930
CREATED:20260417T090622Z
LAST-MODIFIED:20260417T090622Z
UID:22654-1778025600-1778111999@www.augias.net
SUMMARY:66. Thüringischer Archivtag
DESCRIPTION:Der 66. Thüringische Archivtag findet am Mittwoch\, 6. Mai 2026 in der Stadthalle Bad Blankenburg statt. Das diesjährige Motto lautet “ Überliefern und Bewerten im Verbund – Projekte und Ansätze archivischer Kooperation“. \nAUGIAS-Data ist mit einem Messestand vor Ort vertreten. \nAnmeldehinweise finden sich im Programm. \nAnmeldeschluss ist der 24. April 2026.
URL:https://www.augias.net/event/66-thueringischer-archivtag/
LOCATION:https://www.stadthalle-bad-blankenburg.de/\, Bahnhofstr. 23\, 07422 Bad Blankenburg
END:VEVENT
BEGIN:VEVENT
DTSTART;VALUE=DATE:20260609
DTEND;VALUE=DATE:20260612
DTSTAMP:20260419T182930
CREATED:20250830T173228Z
LAST-MODIFIED:20250830T173228Z
UID:22171-1780963200-1781222399@www.augias.net
SUMMARY:Konferenz "Offene Archive" 2026
DESCRIPTION:Die nächste Konferenz ist vom 9. bis 11. Juni 2026 in Köln geplant – Ort: Historisches Archiv mit Rheinischem Bildarchiv. \nWeitere Informationen folgen. \nVeranstaltungswebsite
URL:https://www.augias.net/event/konferenz-offene-archive-2026/
LOCATION:Historisches Archiv mit Rheinischem Bildarchiv\, Eifelwall 5\, 50674 Köln
END:VEVENT
BEGIN:VEVENT
DTSTART;VALUE=DATE:20260610
DTEND;VALUE=DATE:20260612
DTSTAMP:20260419T182930
CREATED:20260417T093859Z
LAST-MODIFIED:20260417T093859Z
UID:22666-1781049600-1781222399@www.augias.net
SUMMARY:Landesarchivtag Sachsen-Anhalt 2026
DESCRIPTION:Der  Landesarchivtag Sachsen-Anhalt 2026 findet am 10. und 11. Juni 2026 im Industrie- und Filmmuseum Wolfen in Bitterfeld-Wolfen statt. Die Fachtagung widmet sich dem Thema Schlummernde Schätze? Foto und Film im Archiv. \nAUGIAS-Data ist mit einem Messestand vor Ort vertreten. \nProgramm \nAnmeldung (Anmeldeschluss: 8. Juni 2026)
URL:https://www.augias.net/event/landesarchivtag-sachsen-anhalt-2026/
LOCATION:Industrie- und Filmmuseum Wolfen\, Chemiepark Bitterfeld-Wolfen\, Areal A\, Bunsenstraße 4\, 06766 Bitterfeld-Wolfen
END:VEVENT
BEGIN:VEVENT
DTSTART;VALUE=DATE:20260616
DTEND;VALUE=DATE:20260617
DTSTAMP:20260419T182930
CREATED:20260224T095507Z
LAST-MODIFIED:20260224T095507Z
UID:22565-1781568000-1781654399@www.augias.net
SUMMARY:47. Hessischer Archivtag
DESCRIPTION:Unter dem Rahmenthema „Migrationsgesellschaft(en) im Archiv. Ansätze zur Überlieferungsbildung und Vermittlung“ wird der 47. Hessische Archivtag 2026 in Frankfurt am Main veranstaltet\, und zwar im Institut für Stadtgeschichte im Karmeliterkloster am 16.06.2026. \nDas Programm wird im Frühjahr 2026 veröffentlicht und die Anmeldung freigeschaltet.
URL:https://www.augias.net/event/47-hessischer-archivtag/
LOCATION:Institut für Stadtgeschichte im Karmelliterkloster\, Münzgasse 9\, Frankfurt am Main\, Hessen\, 60311
END:VEVENT
BEGIN:VEVENT
DTSTART;VALUE=DATE:20260618
DTEND;VALUE=DATE:20260620
DTSTAMP:20260419T182930
CREATED:20260417T100407Z
LAST-MODIFIED:20260417T100407Z
UID:22381-1781740800-1781913599@www.augias.net
SUMMARY:85. Südwestdeutscher Archivtag
DESCRIPTION:Am 18. und 19. Juni 2026 findet der 85. Südwesteduetsche Archivtag in Singen (Hohentwiel) statt. Das Thema lautet:        Echt. Kopie. Digital. – Was bleibt vom Original? \nAUGIAS-Data ist mit einem Messestand vor Ort vertreten. \nProgrammflyer \nZur Anmeldung \n \n  \n 
URL:https://www.augias.net/event/85-suedwestdeutscher-archivtag/
LOCATION:Rathaus Singen\, Hohgarten 2\, 78224 Singen (Hohentwiel)
END:VEVENT
END:VCALENDAR