BEGIN:VCALENDAR
VERSION:2.0
PRODID:-//AUGIAS.Net - ECPv6.10.3//NONSGML v1.0//EN
CALSCALE:GREGORIAN
METHOD:PUBLISH
X-WR-CALNAME:AUGIAS.Net
X-ORIGINAL-URL:https://www.augias.net
X-WR-CALDESC:Veranstaltungen für AUGIAS.Net
REFRESH-INTERVAL;VALUE=DURATION:PT1H
X-Robots-Tag:noindex
X-PUBLISHED-TTL:PT1H
BEGIN:VTIMEZONE
TZID:Europe/Berlin
BEGIN:DAYLIGHT
TZOFFSETFROM:+0100
TZOFFSETTO:+0200
TZNAME:CEST
DTSTART:20230326T010000
END:DAYLIGHT
BEGIN:STANDARD
TZOFFSETFROM:+0200
TZOFFSETTO:+0100
TZNAME:CET
DTSTART:20231029T010000
END:STANDARD
END:VTIMEZONE
BEGIN:VEVENT
DTSTART;VALUE=DATE:20230302
DTEND;VALUE=DATE:20230304
DTSTAMP:20260423T215312
CREATED:20220805T072631Z
LAST-MODIFIED:20230210T180438Z
UID:17919-1677715200-1677887999@www.augias.net
SUMMARY:24. Sächsischer Archivtag
DESCRIPTION:Am 2. und 3. März 2023 findet in Mittweida der 24. Sächsische Archivtag statt. Unter dem Titel „Planung. Prozesse. Probleme? Digitale Transformation in Archiven“ wird sich die Fachtagung den Chancen und Herausforderungen der Digitalisierung aus Sicht der Archive widmen. Dabei wird es nicht nur um Möglichkeiten einer sinnvollen Steuerung der digitalen Transformation gehen\, sondern auch um die Veränderung von Arbeitsabläufen sowie die Schaffung von ressourcenschonenden Verbundlösungen und Kooperationen. \nNeben den Fachvorträgen werden in diesem Jahr zahlreiche Workshops angeboten\, in denen durch Diskussionen sowie durch praktische Übungen und Vorführungen Wissen erarbeitet und vermittelt werden soll. \nProgramm
URL:https://www.augias.net/event/sat2023/
LOCATION:Hochschule Mittweida\, Bahnhofstraße 15\, Mittweida\, 09648\, Deutschland
END:VEVENT
BEGIN:VEVENT
DTSTART;VALUE=DATE:20230310
DTEND;VALUE=DATE:20230312
DTSTAMP:20260423T215312
CREATED:20200106T125256Z
LAST-MODIFIED:20210206T064522Z
UID:12053-1678406400-1678579199@www.augias.net
SUMMARY:Jahrestagung der AG bayerischer Kommunalarchive
DESCRIPTION:Die 53. Jahrestagung der Arbeitsgemeinschaft bayerischer Kommunalarchive sollte am 8./9. Mai 2020 in Regensburg stattfinden. Sie wurde aber wegen der Corona-Krise abgesagt. \nDer für den 12./13. März 2021 in Passau geplante 12. Bayerische Archivtag („Arbeitsthema „Digitale Archivierung“) wird auf 2023 verschoben. \n 
URL:https://www.augias.net/event/agbayka2020/
LOCATION:Unbenannter Veranstaltungsort\, Regensburg
END:VEVENT
BEGIN:VEVENT
DTSTART;TZID=Europe/Berlin:20230315T110000
DTEND;TZID=Europe/Berlin:20230316T150000
DTSTAMP:20260423T215312
CREATED:20230124T201804Z
LAST-MODIFIED:20230124T201804Z
UID:18797-1678878000-1678978800@www.augias.net
SUMMARY:74. Westfälischer Archivtag
DESCRIPTION:Am 15. und 16. März 2023 findet der 74. Westfälische Archivtag in der Stadthalle Hagen statt. Das Thema lautet: „Lösungskonzepte für analoge und digitale Herausforderungen des kommunalarchivischen Alltags“. \nProgramm \nAnmeldung
URL:https://www.augias.net/event/wat74/
LOCATION:Stadthalle Hagen\, Wasserloses Tal 2\, Hagen\, 58093
END:VEVENT
BEGIN:VEVENT
DTSTART;TZID=Europe/Berlin:20230317T180000
DTEND;TZID=Europe/Berlin:20230318T040000
DTSTAMP:20260423T215312
CREATED:20230316T074848Z
LAST-MODIFIED:20230316T074848Z
UID:19128-1679076000-1679112000@www.augias.net
SUMMARY:10. Nacht der Bibliotheken
DESCRIPTION:Für Freitag\, 17. März 2023\, laden die Bibliotheken − nicht nur in Nordrhein-Westfalen – alle Bürger:innen zur 10. „Nacht der Bibliotheken“ ein. Das Motto? „grenzenlos!“\nDie offizielle Eröffnung findet in der Zentralbibliothek der Stadtbüchereien Düsseldorf statt\, zu der u. a. Schirmherrin Kirsten Boie live aus eSwatini zugeschaltet wird. \nGrenzenlos ist die Bibliothek als der Ort\, an dem Menschen aller Kulturen und Interessen unabhängig von Gehalt und Bildung willkommen sind. Die Bibliothek bietet ihnen grenzenlose Möglichkeiten: Hier können sie sich informieren\, lernen\, kulturelle Angebote nutzen\, sich fortbilden\, Neues ausprobieren und miteinander ins Gespräch kommen. \nhttps://www.nachtderbibliotheken.de/
URL:https://www.augias.net/event/10-nacht-der-bibliotheken/
END:VEVENT
BEGIN:VEVENT
DTSTART;VALUE=DATE:20230321
DTEND;VALUE=DATE:20230323
DTSTAMP:20260423T215312
CREATED:20221024T094608Z
LAST-MODIFIED:20230201T163559Z
UID:18348-1679356800-1679529599@www.augias.net
SUMMARY:26. AUdS-Tagung
DESCRIPTION:Praktische und pragmatische Ansätze zur digitalen Langzeitarchivierung für kleine und mittlere Archive – 26. Tagung des „Arbeitskreises Unterlagen aus digitalen Systemen (AUdS)“ am 21. und 22. März 2023 in Mannheim. \nDas MARCHIVUM\, vormals Stadtarchiv Mannheim – Institut für Stadtgeschichte\, richtet nach 2000 und 2005 zum dritten Mal eine Tagung des AudS aus. Im Fokus dieser Tagung sollen die Kleinen und Mittleren Archive (KMA) stehen\, die mit eng begrenzten personellen und finanziellen Ressourcen das gesamte Spektrum der digitalen Langzeitarchivierung stemmen müssen. \nDie Tagung findet statt am Dienstag\, den 21.03.2023 und Mittwoch\, den 22.03.2023 in hybrider Form. Die Teilnahme vor Ort wird möglich sein für 120 Teilnehmer*innen\, die aktiv teilnehmen wollen. Die Tagungen des AUdS verstehen sich als Treffen von Praktiker*innen und Expert*innen; es handelt sich nicht um eine Fortbildungsveranstaltung oder einen Einstiegslehrgang. Für diese Teilnehmer*innen werden die Veranstalter die Veranstaltung streamen und die Fragen über einen moderierten Chat einzubinden suchen.\nAus räumlichen und organisatorischen Gründen werden außer den Plenumssitzungen nur in begrenztem Umfang Gruppenarbeiten angeboten werden können. Die Gruppenarbeiten sollen praktische Lösungen präsentieren\, die vorgestellt und diskutiert werden. \nDie Präsentationen der Tagungsbeiträge werden im Anschluss an die Tagung in bewährter Form auf der Webseite beim Staatsarchiv St. Gallen bereitgestellt. \nProgramm \nAnmeldung \nRückfragen an:\nHarald Stockert\, harald.stockert@mannheim.de\nChristoph Popp\, christoph.popp@mannheim.de oder\nJulia Simon\, julia.simon@mannheim.de;Tel. 0621 – 293 – 7478
URL:https://www.augias.net/event/auds2023/
LOCATION:MARCHIVUM\, Archivplatz 1\, Mannheim\, 68169\, Deutschland
ORGANIZER;CN="Arbeitskreis Unterlagen aus digitalen Systemen (AUdS)":MAILTO:julia.simon@mannheim.de
END:VEVENT
BEGIN:VEVENT
DTSTART;TZID=Europe/Berlin:20230322T090000
DTEND;TZID=Europe/Berlin:20230324T150000
DTSTAMP:20260423T215312
CREATED:20221214T105612Z
LAST-MODIFIED:20221214T105612Z
UID:18642-1679475600-1679670000@www.augias.net
SUMMARY:Frühjahrstagung 2023 der Fachgruppe 8
DESCRIPTION:Die Frühjahrstagung 2023 der Fachgruppe 8 im VdA findet am (22.) 23./24. März 2023 zunächst online und dann im Universitätsarchiv Magdeburg statt. Das Oberthema der Tagung lautet „Neue Wege der Öffentlichkeitsarbeit“. \n \nFlyer (PDF)
URL:https://www.augias.net/event/fg8_fj2023/
LOCATION:Universität Magdeburg\, Campus Universitätsplatz\, Gebäude 22\, Magdeburg\, 39106\, Deutschland
END:VEVENT
BEGIN:VEVENT
DTSTART;TZID=Europe/Berlin:20230324T100000
DTEND;TZID=Europe/Berlin:20230324T160000
DTSTAMP:20260423T215312
CREATED:20230126T214109Z
LAST-MODIFIED:20230323T163446Z
UID:18828-1679652000-1679673600@www.augias.net
SUMMARY:24. Karlsruher Tagung für Archivpädagogik
DESCRIPTION:Partizipation. Revolution und Beteiligung als Demokratiegeschichte.\nAuf der 24. Karlsruher Tagung für Archivpädagogik stehen anlässlich der Deutschen Revolution vor 175 Jahre politische Partizipations- und Protestbewegungen und das Ringen um Beteiligung im 19. und 20. Jahrhundert im Fokus. Ausgehend von der Revolution 1848/49 werden Zugänge für Schülerinnen und Schüler zur Geschichte der Partizipation als Teil der Demokratiegeschichte präsentiert und diskutiert. \n \nAnmeldung \nProgramm\n10.00 bis 16.00 Uhr\, Generallandesarchiv Karlsruhe und Stadtmedienzentrum Karlsruher \nEinführung: Die Revolution 1848/49 als Element der deutschen Demokratiegeschichte reflektieren und vermitteln\nProf. Dr. Detlef Schmiechen-Ackermann\, Direktor des Instituts für Didaktik der Demokratie\, Leibniz Universität Hannover \nWorkshop 1: 1848/49 selbst entdecken – Pädagogische Angebote in der Erinnerungsstätte für die Freiheitsbewegungen in der deutschen Geschichte\nStD’in Gerhild Löffler und StR Philipp Stahlhut\, Erinnerungsstätte für die Freiheitsbewegungen in der deutschen Geschichte \nWorkshop 2: Protestgeschichte mit Schülerinnen und Schülern: Der Stuttgarter Tumult 1948 als thematisches Beispiel für eine engere Kooperation von Schule und Archiv\nMichael Herzog\, Stadtarchiv Stuttgart; StD Dr. Michael Hoffmann\, Kompetenzzentrum für Geschichtliche Landeskunde im Unterricht \nWorkshop 3: Der Friedhof der Märzgefallenen. Herausforderungen und Potentiale der Bildungsarbeit am authentischen Ort der Revolutionsereignisse 1848 und 1918\nPaul Schmitz\, Friedhof der Märzgefallenen\, Berlin \nMarkt der Möglichkeiten\nArchive\, Museen\, Schulen und weitere Kultureinrichtungen präsentieren thematisch passende Materialien\, Angebote und Projekte. \nAnsprechpartnerin:\nDr. Verena Schweizer\nLandesarchiv Baden–Württemberg\nAbteilung Fachprogramme und Bildungsarbeit\nTelefon: 0711/212–4250\nE-Mail: verena.schweizer@la-bw.de
URL:https://www.augias.net/event/ktap24/
END:VEVENT
END:VCALENDAR