BEGIN:VCALENDAR
VERSION:2.0
PRODID:-//AUGIAS.Net - ECPv6.10.3//NONSGML v1.0//EN
CALSCALE:GREGORIAN
METHOD:PUBLISH
X-WR-CALNAME:AUGIAS.Net
X-ORIGINAL-URL:https://www.augias.net
X-WR-CALDESC:Veranstaltungen für AUGIAS.Net
REFRESH-INTERVAL;VALUE=DURATION:PT1H
X-Robots-Tag:noindex
X-PUBLISHED-TTL:PT1H
BEGIN:VTIMEZONE
TZID:Europe/Berlin
BEGIN:DAYLIGHT
TZOFFSETFROM:+0100
TZOFFSETTO:+0200
TZNAME:CEST
DTSTART:20230326T010000
END:DAYLIGHT
BEGIN:STANDARD
TZOFFSETFROM:+0200
TZOFFSETTO:+0100
TZNAME:CET
DTSTART:20231029T010000
END:STANDARD
END:VTIMEZONE
BEGIN:VEVENT
DTSTART;TZID=Europe/Berlin:20231102T100000
DTEND;TZID=Europe/Berlin:20231102T120000
DTSTAMP:20260423T101543
CREATED:20231024T093800Z
LAST-MODIFIED:20231024T094943Z
UID:20031-1698919200-1698926400@www.augias.net
SUMMARY:Online-Vortrag mit Diskussionsrunde: „Archivwürdig! Aber warum?“
DESCRIPTION:„Archivwürdig! Aber warum?“ fragt Prof. Christian Keitel am 2. November 2023 ab 10:00 Uhr in einem Online-Vortrag anlässlich des diesjährigen World Digital Preservation Day (WDPD). \n \nAuch in der digitalen Welt können bei weitem nicht alle potentiell interessanten Informationen archiviert werden. Wie können wir zwischen dem\, was „für immer“ erhalten werden soll und all dem anderen unterscheiden? Weshalb wählen wir aus und welche Ziele sollten wir dabei verfolgen? Welche Konzepte und Modelle wurden bislang entwickelt\, welcher Fehler schon gemacht? Spielen die Designated Communities auch in der Bewertung eine Rolle? Müssen sich tatsächlich nur die klassischen Archive diese Fragen stellen? Der Vortrag wird einige Erfahrungen und Überlegungen aus der Praxis der letzten 25 Jahre vorstellen\, vor allem aber die aufgeworfenen Fragen durch weitergehende Fragen zu beantworten suchen. \nHier geht es zur Anmeldung. \nDer von der Digital Preservation Coalition initiierte internationale WDPD besteht seit 2017. Das LVR-Archivberatungs- und Fortbildungszentrum (LVR-AFZ) beteiligt sich seit 2020\, um auch in nicht-staatlichen Archiven die Aufmerksamkeit auf das Thema der digitalen Bestandserhaltung zu richten. In diesem Jahr konnte mit Prof. Christian Keitel vom Landesarchiv Baden-Württemberg ein Referent gewonnen werden\, der die Entwicklung der digitalen Archivierung in Deutschland seit vielen Jahren mitgestaltet. \nHier geht es zur internationalen Veranstaltungsübersicht zum WDPD.
URL:https://www.augias.net/event/online-vortrag-mit-diskussionsrunde-archivwuerdig-aber-warum/
END:VEVENT
END:VCALENDAR