BEGIN:VCALENDAR
VERSION:2.0
PRODID:-//AUGIAS.Net - ECPv6.10.3//NONSGML v1.0//EN
CALSCALE:GREGORIAN
METHOD:PUBLISH
X-ORIGINAL-URL:https://www.augias.net
X-WR-CALDESC:Veranstaltungen für AUGIAS.Net
REFRESH-INTERVAL;VALUE=DURATION:PT1H
X-Robots-Tag:noindex
X-PUBLISHED-TTL:PT1H
BEGIN:VTIMEZONE
TZID:Europe/Berlin
BEGIN:DAYLIGHT
TZOFFSETFROM:+0100
TZOFFSETTO:+0200
TZNAME:CEST
DTSTART:20240331T010000
END:DAYLIGHT
BEGIN:STANDARD
TZOFFSETFROM:+0200
TZOFFSETTO:+0100
TZNAME:CET
DTSTART:20241027T010000
END:STANDARD
END:VTIMEZONE
BEGIN:VEVENT
DTSTART;VALUE=DATE:20240302
DTEND;VALUE=DATE:20240304
DTSTAMP:20260423T042229
CREATED:20240219T123603Z
LAST-MODIFIED:20240219T123603Z
UID:20341-1709337600-1709510399@www.augias.net
SUMMARY:Tag der Archive 2024: Essen und Trinken
DESCRIPTION:Alle zwei Jahre wird am bundesweiten TAG DER ARCHIVE die öffentliche Aufmerksamkeit ganz besonders auf die vielfältigen gesellschaftlichen Funktionen der Archive gelenkt. \nViele hundert Archive unterschiedlichster Archivsparten öffnen an den Aktionstagen für die Bürgerinnen und Bürger ihre Türen und präsentieren sich mit interessanten Programmen der Öffentlichkeit als moderne Dienstleister. \nDer nächste TAG DER ARCHIVE findet am 2. und 3. März 2024 unter den Motto Essen und Trinken statt. \nDer erste TAG DER ARCHIVE fand 2001 statt. Seit 2006 steht der Aktionstag unter einem Motto\, welches von der Mitgliedschaft des VdA ausgewählt wird. \nHier finden Sie Veranstaltungen in Ihrer Region.
URL:https://www.augias.net/event/tag-der-archive-2024-essen-und-trinken/
END:VEVENT
BEGIN:VEVENT
DTSTART;TZID=Europe/Berlin:20240302T123000
DTEND;TZID=Europe/Berlin:20240302T190000
DTSTAMP:20260423T042229
CREATED:20240219T082841Z
LAST-MODIFIED:20240219T083357Z
UID:20320-1709382600-1709406000@www.augias.net
SUMMARY:3. Tag der Regionalgeschichte
DESCRIPTION:Zusammen mit der Universität Bielefeld laden der Naturwissenschaftliche und Historische Verein für das Land Lippe\, der Historische Verein für die Grafschaft Ravensberg\, der Mindener Geschichtsverein und das Landesarchiv NRW zum 3. „Tag der Regionalgeschichte“ ein. \n \nAuf die Teilnehmerinnen und Teilnehmer wartet ab 12.30 Uhr ein vielfältiges Angebot: In Workshops und Vorträgen zu verschiedenen Themenfeldern können sie einen Einblick in historische Arbeitstechniken gewinnen\, Kontakte knüpfen und ihr vorhandenes Wissen vertiefen. Sie können an einer Führung teilnehmen oder auf dem „Markt der Möglichkeiten“ die Gelegenheit nutzen\, sich über die verschiedenen Institutionen historischen Lernens und Arbeitens in der Region zu informieren. Der die Veranstaltung abschließende Abendvortrag von Prof. Dr. Malte Thiessen (Münster) nimmt Regionalgeschichte als Problemgeschichte unserer Gegenwart: Perspektiven und Potenziale einer Zeitgeschichte Ostwestfalens in den Blick. \nDie Veranstaltung findet in der VHS Bielefeld\, Ravensberger Park von 12:30 bis ca. 17:00 mit Workshops und Führungen statt\, mit Abendimbiss und Abschlussvortrag wird die Veranstaltung ca. 19:30 enden. \nDie Anmeldung ist ab sofort auf der Homepage des  Naturwissenschaftlichen und Historischen Verein für das Land Lippe e.V (NHV) möglich unter https://www.nhv-lippe.de/veranstaltung/tag-der-regionalgeschichte.html\, Anmeldeschluß: 22. Februar 2024. Die Teilnahmekosten liegen bei 5\,00 € (inkl. Kaffee/Kuchen und Abendimbiss) und werden bei der Veranstaltung gezahlt. \nDownload Flyer
URL:https://www.augias.net/event/3-tag-der-regionalgeschichte/
LOCATION:Ravensberger Spinnerei (VHS)\, Ravensberger Park 1\, Bielefeld\, Deutschland
ORGANIZER;CN="Naturwissenschaftlicher und Historischer Verein f%C3%BCr das Land Lippe e.V.":MAILTO:info@nhv-lippe.de
END:VEVENT
BEGIN:VEVENT
DTSTART;TZID=Europe/Berlin:20240319T110000
DTEND;TZID=Europe/Berlin:20240320T150000
DTSTAMP:20260423T042229
CREATED:20240229T080312Z
LAST-MODIFIED:20240229T080312Z
UID:20379-1710846000-1710946800@www.augias.net
SUMMARY:Westfälischer Archivtag 2024
DESCRIPTION:Der 75. Westfälische Archivtag findet am 19. und 20. März 2024 in Dülmen statt.Das Thema lautet: „Lösungen finden! Methodische Ansätze archivischer Überlieferungsbildung – bewährte Kooperationsmodelle“. \nProgramm \nAnmeldung
URL:https://www.augias.net/event/westfaelischer-archivtag-2024/
LOCATION:Clemens-Brentano-Gymnasium\, An der Kreuzkirche 7\, Dülmen\, 48249
ORGANIZER;CN="LWL-Archivamt f%C3%BCr Westfalen":MAILTO:LWL-Archivamt@lwl.org
END:VEVENT
END:VCALENDAR