BEGIN:VCALENDAR
VERSION:2.0
PRODID:-//AUGIAS.Net - ECPv6.10.3//NONSGML v1.0//EN
CALSCALE:GREGORIAN
METHOD:PUBLISH
X-ORIGINAL-URL:https://www.augias.net
X-WR-CALDESC:Veranstaltungen für AUGIAS.Net
REFRESH-INTERVAL;VALUE=DURATION:PT1H
X-Robots-Tag:noindex
X-PUBLISHED-TTL:PT1H
BEGIN:VTIMEZONE
TZID:Europe/Berlin
BEGIN:DAYLIGHT
TZOFFSETFROM:+0100
TZOFFSETTO:+0200
TZNAME:CEST
DTSTART:20240331T010000
END:DAYLIGHT
BEGIN:STANDARD
TZOFFSETFROM:+0200
TZOFFSETTO:+0100
TZNAME:CET
DTSTART:20241027T010000
END:STANDARD
END:VTIMEZONE
BEGIN:VEVENT
DTSTART;TZID=Europe/Berlin:20240527T190000
DTEND;TZID=Europe/Berlin:20240527T190000
DTSTAMP:20260423T011856
CREATED:20240523T153354Z
LAST-MODIFIED:20240523T153519Z
UID:20753-1716836400-1716836400@www.augias.net
SUMMARY:Freiheit ist anstrengend. Warum eine wehrhafte Demokratie uns alle braucht
DESCRIPTION:Gesprächsabend und Diskussion mit Ruprecht Polenz. Moderation: Robert von Olberg. \nVeranstalter: Förderverein der Villa ten Hompel e.V. und Gesellschaft für Christlich-Jüdische Zusammenarbeit Münster e.V. \nOrt: Erlöserkirche\, Friedrichstraße 10\, Münster \nRuprecht Polenz\, 1946 in Sachsen geboren und in Bautzen aufgewachsen\, siedelte 1952 mit seinen Eltern nach Westdeutschland über. Deshalb fühlt sich der langjährige CDU-Bundestagsabgeordnete und politische Aktivist sowohl seit mehr als einem halben Jahrhundert als Münsteraner wie auch als Sachse. \nPolenz hat deshalb eine besondere Beziehung und tiefen Respekt vor den Menschen\, die 1989 in der ehemaligen DDR die Demokratie aktiv erkämpften. Dass Demokratie und Freiheit in Deutschland seit 1990 gemeinsam gestaltet und gelebt werden kann\, ist deshalb für ihn ein Privileg\, das es wehrhaft zu verteidigen gilt gegen die Feinde der Demokratie. \nIn einem weit gefassten Gesprächsbogen wird der auch in den sozialen Medien sehr engagierte Polenz skizzieren\, dass Freiheit zuweilen auch anstrengend ist\, weil es aktiver Demokratinnen und Demokraten bedarf\, diese zu leben und zu schützen\, denn: Demokratie und Freiheit ist die Kontrolle von Herrschaft durch die Gewaltenteilung sowie die Pressefreiheit als vierter Säule unserer offenen Gesellschaft. \nFür Ruprecht Polenz ist klar: „man darf nicht tolerant sein gegenüber denen\, die selbst intolerant sind und das Schiff der Demokratie versenken wollen.“ \nZugleich ist er zutiefst überzeugt\, dass die allermeisten\, die in Deutschland leben\, einen positiven persönlichen Beitrag zu einer toleranten Gesellschaft leisten können. Diese Selbstkompetenz oder neudeutsch dieses Empowerment müsse gestärkt werden.
URL:https://www.augias.net/event/freiheit-ist-anstrengend-warum-eine-wehrhafte-demokratie-uns-alle-braucht/
LOCATION:Erlöserkirche\, Friedrichstraße 10\, 48145 Münster
END:VEVENT
BEGIN:VEVENT
DTSTART;TZID=Europe/Berlin:20240529T083000
DTEND;TZID=Europe/Berlin:20240530T130000
DTSTAMP:20260423T011856
CREATED:20240424T115003Z
LAST-MODIFIED:20240429T132507Z
UID:20617-1716971400-1717074000@www.augias.net
SUMMARY:65. Thüringischer Archivtag 2024
DESCRIPTION:Der 65. Thüringische Archivtag findet am 29. und 30. Mai 2024 in Weimar unter dem Motto Bestandserhaltung unter schwierigen Bedingungen statt. \n\n(Foto: wikimedia) \nUm eine verbindliche Anmeldung wird bis zum 4. Mai 2024 an Katja.Deinhardt@la.thueringen.de gebeten. \nDas Programm finden Sie hier.
URL:https://www.augias.net/event/65-thueringischer-archivtag-2024/
LOCATION:Jugend- und Kulturzentrum mon ami\, Goetheplatz 11\, 99423 Weimar
END:VEVENT
END:VCALENDAR