BEGIN:VCALENDAR
VERSION:2.0
PRODID:-//AUGIAS.Net - ECPv6.10.3//NONSGML v1.0//EN
CALSCALE:GREGORIAN
METHOD:PUBLISH
X-ORIGINAL-URL:https://www.augias.net
X-WR-CALDESC:Veranstaltungen für AUGIAS.Net
REFRESH-INTERVAL;VALUE=DURATION:PT1H
X-Robots-Tag:noindex
X-PUBLISHED-TTL:PT1H
BEGIN:VTIMEZONE
TZID:Europe/Berlin
BEGIN:DAYLIGHT
TZOFFSETFROM:+0100
TZOFFSETTO:+0200
TZNAME:CEST
DTSTART:20240331T010000
END:DAYLIGHT
BEGIN:STANDARD
TZOFFSETFROM:+0200
TZOFFSETTO:+0100
TZNAME:CET
DTSTART:20241027T010000
END:STANDARD
END:VTIMEZONE
BEGIN:VEVENT
DTSTART;TZID=Europe/Berlin:20240604T093000
DTEND;TZID=Europe/Berlin:20240604T160000
DTSTAMP:20260422T235351
CREATED:20240429T131443Z
LAST-MODIFIED:20240429T131443Z
UID:20669-1717493400-1717516800@www.augias.net
SUMMARY:Im Labyrinth des Rechts - Archive zwischen Open Access und Verschlusssachen
DESCRIPTION:Der Landesverband Sachsen im VdA lädt zur diesjährigen Fortbildungsveranstaltung „Im Labyrinth des Rechts – Archive zwischen Open Access und Verschlusssachen“ ein\, die von Prof. Dr. Paul Klimpel geleitet wird. Die Veranstaltung findet am 4. Juni von 9:30 Uhr bis 16:00 Uhr im Stadtarchiv Leipzig statt. \nProf. Dr. Paul Klimpel ist geschäftsführender Partner von iRights.Law und hat sich auf Rechtsfragen von Kultureinrichtungen im Zusammenhang mit dem Internet und digitalen Technologien spezialisiert. Er wird einen Einblick in die rechtlichen Aspekte im Umgang mit Archivalien im digitalen Zeitalter ermöglichen und dabei neueste juristische Entwicklungen im Blick haben. Neben Open-Access-Strategien oder verwaisten Werken sollen auch Rechtsfragen bei Digitalisierungsprojekten und bei der Archivierung von Social-Media-Inhalten im Fokus stehen. Die Veranstaltung bietet eine ausgezeichnete Gelegenheit\, Ihr Wissen zu vertiefen und aktuelle Herausforderungen zu diskutieren. \nEine Anmeldung ist unter folgendem Link möglich: https://formulare.leipzig.de/frontend-server/form/alias/1/fobi_stadtarchiv/
URL:https://www.augias.net/event/im-labyrinth-des-rechts-archive-zwischen-open-access-und-verschlusssachen/
LOCATION:Stadtarchiv Leipzig\, Straße des 18. Oktober 42\, 04103 Leipzig
END:VEVENT
BEGIN:VEVENT
DTSTART;TZID=Europe/Berlin:20240604T103000
DTEND;TZID=Europe/Berlin:20240605T123000
DTSTAMP:20260422T235351
CREATED:20240425T070845Z
LAST-MODIFIED:20240425T070845Z
UID:20526-1717497000-1717590600@www.augias.net
SUMMARY:28. Archivwissenschaftliches Kolloquium der Archivschule Marburg
DESCRIPTION:Born digital – Neue Archivaliengattungen und ihre Bearbeitung im Archiv. \nSeit den 1970er Jahren sind zahlreiche digitale Unterlagengattungen entstanden. Seit den 1990er Jahren werden sie auch als Archivalien angesprochen\, in die Archive übernommen und dort bearbeitet. Einige davon existierten schon als konventionelle Archivalien\, wie Akten\, Fotos\, Filme und Töne. Andere sind Kinder der digitalen Welt. Dazu zählen Fachverfahren\, Webseiten\, soziale Medien\, E-Mails\, Messengerdienste und andere. Diese Archivalien werden in die Archive übernommen\, dort aufbereitet und in naher Zukunft für die Nutzung bereitgestellt. Durch ihre Andersartigkeit fordern sie die Archivarinnen\, Archivare und die Archivwissenschaft in vielfältiger Weise heraus: Analoge Archivalien sind als physische Einheiten vorhanden\, die in der Regel bei der Archivierung nicht oder kaum verändert werden. Digitale Archivalien sind vor ihrer Archivierung als Einheiten zu definieren. Analoge Archivalien sind entweder in einem guten Erhaltungszustand oder sie werden restauriert\, um für lange Zeiträume aufbewahrt zu werden. Die Erhaltung digitaler Archivalien erfordert zyklisch ablaufende organisatorische und technische Prozesse\, die die ständige Aufmerksamkeit der Archivarinnen und Archivare erfordern. Die Erschließung analoger Archivalien ist eine Aufgabe für Menschen. Für digitale Archivalien können viele Erschließungsinformationen dagegen automatisiert erfasst werden. \nEin weiterer Aspekt ist die Forderung von Zielgruppen der Archive\, analoge Archivalien zu digitalisieren\, um den Nutzungskomfort zu verbessern. Dadurch entstehen neue Aufwände in den Archiven. Bei digitalen Archivalien ist der Nutzungskomfort schon bei der Übernahme ins Archiv mitzudenken und dauerhaft zu erhalten. \nAus allen diesen Fragestellungen und sicherlich vielen weiteren ergibt sich ein Themenspektrum\, das beim 28. Archivwissenschaftlichen Kolloquium betrachtet und diskutiert werden soll. \nNähere Informationen zum Programm und zur Anmeldung finden Sie im Flyer.
URL:https://www.augias.net/event/28-archivwissenschaftliches-kolloquium-der-archivschule-marburg/
LOCATION:Archivschule Marburg – Hochschule für Archivwissenschaft\, Bismarckstraße 32\, Marburg\, Hessen\, 35037\, Deutschland
ORGANIZER;CN="Archivschule Marburg":MAILTO:archivschule@staff.uni-marburg.de
END:VEVENT
BEGIN:VEVENT
DTSTART;TZID=Europe/Berlin:20240612T090000
DTEND;TZID=Europe/Berlin:20240613T143000
DTSTAMP:20260422T235351
CREATED:20240513T133238Z
LAST-MODIFIED:20240513T133238Z
UID:20723-1718182800-1718289000@www.augias.net
SUMMARY:Landesarchivtag Sachsen-Anhalt 2024 in Dessau-Roßlau
DESCRIPTION:Der Landesarchivtag Sachsen-Anhalt 2024 findet am 12. und 13. Juni 2024 im historischen Bauhausgebäude in Dessau-Roßlau statt. Er widmet sich dem Thema Lauter weiße Flecken? Aktuelle Brennpunkte der Archivarbeit. \n\n(Foto: wikimedia) \nDie Anmeldung kann ausschließlich online vorgenommen werden. Bitte beachten Sie hierzu: Die Datenerhebung erfolgt über einen gesicherten Server der Stadt bzw. des Stadtarchivs Dessau-Roßlau\, die Verarbeitung der Daten durch das Stadtarchiv Dessau-Roßlau. Nach Abschluss des Archivtages werden die elektronisch gespeicherten Daten an die VdA-Geschäftsstelle übergeben und ausschließlich dort bis zur vorgeschriebenen Löschung gespeichert. \nProgramm \nAnmeldung
URL:https://www.augias.net/event/landesarchivtag-sachsen-anhalt-2024-in-dessau-rosslau/
LOCATION:Bauhausgebäude\, Gropiusallee 38\, 06846 Dessau-Roßlau
END:VEVENT
BEGIN:VEVENT
DTSTART;VALUE=DATE:20240613
DTEND;VALUE=DATE:20240614
DTSTAMP:20260422T235351
CREATED:20240521T135755Z
LAST-MODIFIED:20240521T135755Z
UID:20748-1718236800-1718323199@www.augias.net
SUMMARY:Offenes Fachforum der Fachgruppe 7 im VdA
DESCRIPTION:Die Fachgruppe 7 (Medienarchive) des VdA veranstaltet am 13. Juni 2024 ein offenes Fachforum zum Thema:  „Versteckt – Verkopft – Kein Netz. Digitale Narrative in Archiven“. \nVeranstaltungsort ist der Filmsaal des Bundesarchivs in Berlin-Lichterfelde (Finckensteinallee 63\, 12205) . \nDie Teilnahme ist kostenlos und Getränke werden gestellt. Optional kann auch ein Mittagessen gegen einen Unkostenbeitrag von 10 € erworben werden\, dies dann bitte bei der Anmeldung mitangeben. \nDie Anmeldung zur Veranstaltung ist bis zum 7. Juni 2024 über folgende E-Mail-Adresse möglich: archivfilmundmedienkunst@adk.de \nDas vorläufige Programm und weitere Informationen sind unter folgender URL zu finden: https://www.vda.archiv.net/fileadmin/user_upload/FG7_2024_Flyer.pdf \nFür Newcomer im Berufsfeld Archiv besteht außerdem das Angebot\, eigene Arbeiten\, Studien oder Projekte in einer kurzen Präsentation von 5-10 Minuten vorzustellen. Bei Interesse bitte zeitnah eine Mail mit einer kurzen Beschreibung an die oben genannte E-Mail-Adresse senden.
URL:https://www.augias.net/event/offenes-fachforum-der-fachgruppe-7-im-vda/
LOCATION:Bundesarchiv – Filmsaal\, Finckensteinallee 63\, 12205 Berlin-Lichterfelde
END:VEVENT
BEGIN:VEVENT
DTSTART;TZID=Europe/Berlin:20240613T093000
DTEND;TZID=Europe/Berlin:20240614T130000
DTSTAMP:20260422T235351
CREATED:20240529T062238Z
LAST-MODIFIED:20240529T062238Z
UID:20775-1718271000-1718370000@www.augias.net
SUMMARY:Rheinischer Archivtag 2024
DESCRIPTION:Der 57. Rheinische Archivtag findet am 13. und 14. Juni 2024 im Rheinforum in Wesseling statt. Unter der Überschrift Visuelle Quellen – Fotos und Filme in Archiven präsentieren und diskutieren Referierende aus dem Rheinland und darüber hinaus Projekte\, Erfahrungen und Einschätzungen zu den Foto- und Filmbeständen in den Archiven. Im Mittelpunkt stehen Fragen der Bestandserhaltung\, der Bewertung und Erschließung sowie der digitalen Aufbereitung analoger Objekte und ihrer Nutzung. \n \nProgramm des 57. Rheinischen Archivtags \nInformationen zu diesem und zu früheren Rheinischen Archivtagen seit 2012 gibt es in dem Tagungsblog RHEINISCHER ARCHIVTAG.
URL:https://www.augias.net/event/rheinischer-archivtag-2024/
LOCATION:Rheinforum\, Kölner Straße 42\, 50389 Wesseling
END:VEVENT
BEGIN:VEVENT
DTSTART;TZID=Europe/Berlin:20240614T130000
DTEND;TZID=Europe/Berlin:20240615T150000
DTSTAMP:20260422T235351
CREATED:20240513T133101Z
LAST-MODIFIED:20240513T133101Z
UID:20726-1718370000-1718463600@www.augias.net
SUMMARY:35. Archivpädagogikkonferenz
DESCRIPTION:Archivpädagogik in der Migrationsgesellschaft. \nDeutschland ist ein Einwanderungsland. Migrationsbewegungen prägen unsere Geschichte und unsere Gegenwart. Was bedeutet dies für die Archivpädagogik und die historische Bildungsarbeit? Gelingt es\, Schülerinnen und Schüler mit Migrationshintergrund für die archivpädagogischen Angebote anzusprechen und zu gewinnen? Welche Geschichte wird überhaupt in den Archiven abgebildet? Findet sich die Migrationsgeschichte angemessen in der archivischen Überlieferungsbildung wieder? Welche Aufgaben und vor allem auch welche Möglichkeiten ergeben sich für die Archivpädagogik in der Migrationsgesellschaft? Wie setzt man die Angebote praktisch um? Worauf gilt es zu achten? \nDiesen und weiteren Fragen möchte die 35. Archivpädagogikkonferenz 2024 nachgehen. Der Standort Duisburg des Landesarchivs NRW erscheint besonders geeignet\, die Herausforderungen wie Chancen der Archivpädagogik und der historischen Bildungsarbeit in der Migrationsgesellschaft in den Blick zu nehmen und zu diskutieren. \nFlyer \nAnmeldeformular
URL:https://www.augias.net/event/35-archivpaedagogikkonferenz/
LOCATION:Campanile Diusburg City\, Unterstraße 24\, 47051 Duisburg
END:VEVENT
BEGIN:VEVENT
DTSTART;TZID=Europe/Berlin:20240617T123000
DTEND;TZID=Europe/Berlin:20240619T130000
DTSTAMP:20260422T235351
CREATED:20240426T070211Z
LAST-MODIFIED:20240426T070211Z
UID:20627-1718627400-1718802000@www.augias.net
SUMMARY:Konferenz "Offene Archive" 2024
DESCRIPTION:Die Konferenz “Offene Archive” findet vom 17. bis 19. Juni 2024 im LWL-Museum für Kunst und Kultur in Münster als reine Präsenzveranstaltung statt und trägt das Motto “K(ann) I(ch)? Künstliche Intelligenz\, Innovationen und Offenheit im Archiv”. Neben diesem Schwerpunkt werden auch andere Themen aus der Archivwelt auf dem Programm stehen. \nAnmeldung \nProgramm \nweitere Informationen
URL:https://www.augias.net/event/konferenz-offene-archive-2024/
LOCATION:LWL-Museum für Kunst und Kultur\, Domplatz 10\, 48143 Münster
END:VEVENT
BEGIN:VEVENT
DTSTART;TZID=Europe/Berlin:20240627T103000
DTEND;TZID=Europe/Berlin:20240627T163000
DTSTAMP:20260422T235351
CREATED:20240430T130242Z
LAST-MODIFIED:20240430T130242Z
UID:20672-1719484200-1719505800@www.augias.net
SUMMARY:45. Hessischer Archivtag
DESCRIPTION:Vorsorge für Klimakrise\, Kriege und Katastrophenschutz… die aktuellen Herausforderungen\, denen sich die archivische Bestandserhaltung und die Notfallvorsorge in Hessischen Archiven widmen müssen\, sind vielfältig. Ein guter Grund\, diese Themen im Rahmen des 45. Hessischen Archivtags des VdA Landesverbands Hessen\, der am 27.06.2024 im historischen Ständehaus des Landeswohlfahrtsverbandes in Kassel stattfindet\, zu vertiefen. Tagungsprogramm und Anmeldeformular: https://www.vda.archiv.net/lv-hessen/hessische-archivtage/45-hessischer-archivtag-2024.html \n 
URL:https://www.augias.net/event/45-hessischer-archivtag/
LOCATION:Ständehaus Kassel\, Ständeplatz 6 - 10\, 34117 Kassel
END:VEVENT
END:VCALENDAR