BEGIN:VCALENDAR
VERSION:2.0
PRODID:-//AUGIAS.Net - ECPv6.10.3//NONSGML v1.0//EN
CALSCALE:GREGORIAN
METHOD:PUBLISH
X-WR-CALNAME:AUGIAS.Net
X-ORIGINAL-URL:https://www.augias.net
X-WR-CALDESC:Veranstaltungen für AUGIAS.Net
REFRESH-INTERVAL;VALUE=DURATION:PT1H
X-Robots-Tag:noindex
X-PUBLISHED-TTL:PT1H
BEGIN:VTIMEZONE
TZID:Europe/Berlin
BEGIN:DAYLIGHT
TZOFFSETFROM:+0100
TZOFFSETTO:+0200
TZNAME:CEST
DTSTART:20240331T010000
END:DAYLIGHT
BEGIN:STANDARD
TZOFFSETFROM:+0200
TZOFFSETTO:+0100
TZNAME:CET
DTSTART:20241027T010000
END:STANDARD
END:VTIMEZONE
BEGIN:VEVENT
DTSTART;TZID=Europe/Berlin:20240822T100000
DTEND;TZID=Europe/Berlin:20240912T120000
DTSTAMP:20260422T205415
CREATED:20240718T154454Z
LAST-MODIFIED:20240718T154454Z
UID:20988-1724320800-1726142400@www.augias.net
SUMMARY:"SUMMER LECTURES zur digitalen Transformation in Archiven"
DESCRIPTION:Online-Vortragsreihe des LVR-Archivberatungs- und Fortbildungszentrums. \nDas LVR-Archivberatungs- und Fortbildungszentrum geht auch in diesem Jahr kurz nach den Sommerferien in NRW mit der vierteiligen Online-Vortragsreihe „SUMMER LECTURES zur digitalen Transformation in Archiven“ an den Start. In diesem Jahr stehen folgende Themen auf der Agenda: \nZum Auftakt am 22. August 2024\, 10-12 Uhr\, berichtet die Jülicher Stadtarchivarin Susanne Richter in ihrem Vortrag Der digitale Lesesaal des Stadtarchivs Jülich: Konzept – Entstehung – Betrieb über ihre bisherigen Erfahrungen und die Potentiale des 2022 gestarteten digitalen Lesesaals.\nZur ANMELDUNG\n\nAm 29. August 2024\, 10-12 Uhr\, erläutert Stefan Watzlawzik vom Kreisarchiv Stormarn unter dem Titel Digitalisiertes Archiv = digitale Verwaltung?! – die Strategie des Kreisarchivs Stormarn\, wie ein Kommunalarchiv mittlerer Größe 225.000 Verzeichnungseinheiten digitalisiert und welchen Einfluss diese Digitalisierungsstrategie auf den Archivbetrieb nimmt.\nZur ANMELDUNG \nAnnabel Walz stellt am 5. September 2024\, 13:30 – 15:30 Uhr\, den Workflow vor\, den digitale Daten im Archiv der sozialen Demokratie durchlaufen\, bevor sie ins Archiv übernommen werden (dürfen). Der Schwerpunkt des Vortrags Dateiablagen bändigen – Pre-Ingest-Workflow im Archiv der sozialen Demokratie liegt auf den eingesetzten Tools zur Analyse der zu übernehmenden Daten.\nZur ANMELDUNG \nMit einem Vortrag aus dem Bereich der digitalen historischen Bildungsarbeit schließt Joachim Schulz-Hönerlage am 12. September 2024\, 10-12 Uhr\, die diesjährigen SUMMER LECTURES ab. In seinem Vortrag Virtuelle Ausstellungen in der Historischen Bildungsarbeit berichtet der Archivar des Kreises Mettmann über zwei Ausstellungen des Archivs\, die über das Angebot „Virtuelle Ausstellungen“ der Deutschen Digitalen Bibliothek (DDB) abrufbar sind.\nZur ANMELDUNG \nDie SUMMER LECTURES zur digitalen Transformation in Archiven greifen als flexibles Vortrags- und Diskussionsformat aktuelle Entwicklungen auf. Die 2020 gestartete Online-Vortragsreihe stellt die fortschreitende Digitalisierung in den Archiven mit all ihren Facetten in den Mittelpunkt. Sie versteht die digitale Transformation als ganzheitliche Veränderung bisher üblicher Arbeitsprozesse. Die aktive Beteiligung der Teilnehmenden durch Fragen\, Diskussionsbeiträge und Erfahrungsberichte wird explizit gewünscht. \nAlle Vorträge sind separat buchbar. Pro Vortrag wird ein Entgelt von 20 € im Ticketverfahren erhoben.
URL:https://www.augias.net/event/summer-lectures-zur-digitalen-transformation-in-archiven/
LOCATION:online
END:VEVENT
END:VCALENDAR