BEGIN:VCALENDAR
VERSION:2.0
PRODID:-//AUGIAS.Net - ECPv6.10.3//NONSGML v1.0//EN
CALSCALE:GREGORIAN
METHOD:PUBLISH
X-WR-CALNAME:AUGIAS.Net
X-ORIGINAL-URL:https://www.augias.net
X-WR-CALDESC:Veranstaltungen für AUGIAS.Net
REFRESH-INTERVAL;VALUE=DURATION:PT1H
X-Robots-Tag:noindex
X-PUBLISHED-TTL:PT1H
BEGIN:VTIMEZONE
TZID:Europe/Berlin
BEGIN:DAYLIGHT
TZOFFSETFROM:+0100
TZOFFSETTO:+0200
TZNAME:CEST
DTSTART:20240331T010000
END:DAYLIGHT
BEGIN:STANDARD
TZOFFSETFROM:+0200
TZOFFSETTO:+0100
TZNAME:CET
DTSTART:20241027T010000
END:STANDARD
END:VTIMEZONE
BEGIN:VEVENT
DTSTART;TZID=Europe/Berlin:20241008T110000
DTEND;TZID=Europe/Berlin:20241010T160000
DTSTAMP:20260422T180951
CREATED:20240516T161133Z
LAST-MODIFIED:20240516T161133Z
UID:20731-1728385200-1728576000@www.augias.net
SUMMARY:91. Deutscher Archivtag 2024 in Suhl
DESCRIPTION:Heute\, Morgen\, Übermorgen – Archive im Fokus. \nDer 91. Deutsche Archivtag findet vom 8. bis 10. Oktober 2024 in Suhl statt. Auf der parallel stattfindenden Fachmesse ARCHIVISTICA 2024 stellen Firmen aus den Bereichen Bürotechnik\, EDV\, Mikroverfilmung\, Digitalisierung\, Regalbau und Restaurierung/Konservierung ihre Produkte und Innovationen dem Fachpublikum vor. \nEinladung des VdA-Vorsitzenden \nFachprogramm \nRahmenprogramm \nAnmeldung \nARCHIVISTICA 2024
URL:https://www.augias.net/event/91-deutscher-archivtag-2024-in-suhl/
LOCATION:CCS – Congress Centrum Suhl\, Friedrich-König-Straße 7\, 98527 Suhl
END:VEVENT
END:VCALENDAR