BEGIN:VCALENDAR
VERSION:2.0
PRODID:-//AUGIAS.Net - ECPv6.10.3//NONSGML v1.0//EN
CALSCALE:GREGORIAN
METHOD:PUBLISH
X-WR-CALNAME:AUGIAS.Net
X-ORIGINAL-URL:https://www.augias.net
X-WR-CALDESC:Veranstaltungen für AUGIAS.Net
REFRESH-INTERVAL;VALUE=DURATION:PT1H
X-Robots-Tag:noindex
X-PUBLISHED-TTL:PT1H
BEGIN:VTIMEZONE
TZID:Europe/Berlin
BEGIN:DAYLIGHT
TZOFFSETFROM:+0100
TZOFFSETTO:+0200
TZNAME:CEST
DTSTART:20240331T010000
END:DAYLIGHT
BEGIN:STANDARD
TZOFFSETFROM:+0200
TZOFFSETTO:+0100
TZNAME:CET
DTSTART:20241027T010000
END:STANDARD
END:VTIMEZONE
BEGIN:VEVENT
DTSTART;TZID=Europe/Berlin:20241120T081500
DTEND;TZID=Europe/Berlin:20241120T163000
DTSTAMP:20260422T164500
CREATED:20241111T094202Z
LAST-MODIFIED:20241111T094202Z
UID:21301-1732090500-1732120200@www.augias.net
SUMMARY:7. Berliner Landesarchivtag 2024
DESCRIPTION:Am 20. November 2024 findet der 7. Berliner Landesarchivtag im Tagungszentrum FMP1\, Franz-Mehring-Platz 1\, 10243 Berlin\, statt. Das Rahmenthema der Konferenz lautet KI im Archiv. Chance oder Risiko? \n(Foto: VdA) \nKünstliche Intelligenz (KI) ist in aller Munde und längst in unser aller Alltag angekommen. Was bedeutet das für die archivische Arbeit? Überwiegen die Chancen der Rationalisierung von Arbeit und der schier unendlichen Verknüpfungsmöglichkeiten die Risiken der unbeherrschbar erscheinenden Informationsflut und der drohenden Auflösung ethischer und rechtlicher Grenzen? Diesem Spannungsfeld widmet sich der Berliner Archivtag und wirft einen Blick auf den Stand der konkreten Anwendung von KI. \nWir laden Sie ein\, gemeinsam mit uns darüber nachzudenken\, wie künstliche Intelligenz auf einfache Weise in die tägliche Archivarbeit integriert werden kann\, um Routineaufgaben wie Nutzungsanfragen per E-Mail schneller und effizienter zu erledigen. Dies könnte dazu beitragen\, mehr Zeit für wichtige Aufgaben wie die Erschließung zu gewinnen. Gleichzeitig möchten wir Wege aufzeigen\, um mögliche Ängste vor KI abzubauen und realistisch einzuschätzen\, in welchen Bereichen sie nützlich sein könnte. \nProgramm
URL:https://www.augias.net/event/7-berliner-landesarchivtag-2024/
LOCATION:Tagungszentrum FMP1\, Franz-Mehring-Platz 1\, 10243 Berlin
END:VEVENT
END:VCALENDAR