BEGIN:VCALENDAR
VERSION:2.0
PRODID:-//AUGIAS.Net - ECPv6.10.3//NONSGML v1.0//EN
CALSCALE:GREGORIAN
METHOD:PUBLISH
X-ORIGINAL-URL:https://www.augias.net
X-WR-CALDESC:Veranstaltungen für AUGIAS.Net
REFRESH-INTERVAL;VALUE=DURATION:PT1H
X-Robots-Tag:noindex
X-PUBLISHED-TTL:PT1H
BEGIN:VTIMEZONE
TZID:Europe/Berlin
BEGIN:DAYLIGHT
TZOFFSETFROM:+0100
TZOFFSETTO:+0200
TZNAME:CEST
DTSTART:20250330T010000
END:DAYLIGHT
BEGIN:STANDARD
TZOFFSETFROM:+0200
TZOFFSETTO:+0100
TZNAME:CET
DTSTART:20251026T010000
END:STANDARD
END:VTIMEZONE
BEGIN:VEVENT
DTSTART;TZID=Europe/Berlin:20250514T090000
DTEND;TZID=Europe/Berlin:20250515T153000
DTSTAMP:20260420T092209
CREATED:20250409T074747Z
LAST-MODIFIED:20250409T074747Z
UID:21750-1747213200-1747323000@www.augias.net
SUMMARY:27. Brandenburgischer Archivtag
DESCRIPTION:Am 14. und 15.5.2025 findet der 27. Brandenburgische Archivtag in Hennigsdorf statt. Das Thema lautet „Archive und ihre Partner – Vermittlung in Kooperation“. \nAUGIAS-Data ist mit einem Messestand vor Ort vertreten. \nProgramm \nAnmeldung
URL:https://www.augias.net/event/27-brandenburgischer-archivtag/
LOCATION:Stadtklubhaus\, Edisonstraße 1\, 16761 Hennigsdorf
END:VEVENT
BEGIN:VEVENT
DTSTART;TZID=Europe/Berlin:20250520T103000
DTEND;TZID=Europe/Berlin:20250521T130000
DTSTAMP:20260420T092209
CREATED:20250328T105650Z
LAST-MODIFIED:20250328T105650Z
UID:21711-1747737000-1747832400@www.augias.net
SUMMARY:29. Archivwissenschaftliches Kolloquium der Archivschule Marburg
DESCRIPTION:KI im Archiv – Steht uns eine Revolution bevor? \nKI ist in aller Munde. Zahlreiche Anwendungen sind auf dem Markt\, sie werden getestet und es wird diskutiert\, wohin die Reise gehen wird. Das Archivwesen ist prinzipiell janusköpfig. Es blickt auf die Verwaltung als Unterlagenproduzent und auf die Forschung als Archivgutnutzer. Beide diskutieren über KI und setzen sie ein\, wenn auch mit unterschiedlichen Motivationen und Zielen. Schließlich gibt es auch im Archiv selbst Prozesse und Abläufe\, in denen KI benutzt werden kann. \nDie Archivarinnen und Archivare haben begonnen\, sich mit KI und ihrer Anwendung auseinanderzusetzen und es gibt erste Erfahrungen und Ergebnisse. Daraus ergeben sich die Themenfelder\, die im 29. Archivwissenschaftlichen Kolloquium diskutiert werden sollen. \nNähere Informationen zum Programm und zur Anmeldung entnehmen Sie bitte dem Flyer.
URL:https://www.augias.net/event/29-archivwissenschaftliches-kolloquium-der-archivschule-marburg/
LOCATION:DGD-Tagungshaus Marburg / online über WebEx
END:VEVENT
BEGIN:VEVENT
DTSTART;TZID=Europe/Berlin:20250522T100000
DTEND;TZID=Europe/Berlin:20250523T163000
DTSTAMP:20260420T092209
CREATED:20250409T082936Z
LAST-MODIFIED:20250409T082936Z
UID:21758-1747908000-1748017800@www.augias.net
SUMMARY:84. Südwestdeutscher Archivtag
DESCRIPTION:Am 22. und 23.5.2025 findet der 84. Südwestdeutsche Archivtag in Weinheim statt. Das Thema lautet „Alles Recht – und gut? Aktuelle Rechtsfragen zur Archivgesetzgebung“. \nAUGIAS-Data ist mit einem Messestand vor Ort vertreten. \nProgramm \nAnmeldung
URL:https://www.augias.net/event/84-suedwestdeutscher-archivtag/
LOCATION:Altes Rathaus\, Marktplatz 1\, 69469 Weinheim
END:VEVENT
END:VCALENDAR