BEGIN:VCALENDAR
VERSION:2.0
PRODID:-//AUGIAS.Net - ECPv6.10.3//NONSGML v1.0//EN
CALSCALE:GREGORIAN
METHOD:PUBLISH
X-ORIGINAL-URL:https://www.augias.net
X-WR-CALDESC:Veranstaltungen für AUGIAS.Net
REFRESH-INTERVAL;VALUE=DURATION:PT1H
X-Robots-Tag:noindex
X-PUBLISHED-TTL:PT1H
BEGIN:VTIMEZONE
TZID:Europe/Berlin
BEGIN:DAYLIGHT
TZOFFSETFROM:+0100
TZOFFSETTO:+0200
TZNAME:CEST
DTSTART:20250330T010000
END:DAYLIGHT
BEGIN:STANDARD
TZOFFSETFROM:+0200
TZOFFSETTO:+0100
TZNAME:CET
DTSTART:20251026T010000
END:STANDARD
END:VTIMEZONE
BEGIN:VEVENT
DTSTART;TZID=Europe/Berlin:20250624T130000
DTEND;TZID=Europe/Berlin:20250625T130000
DTSTAMP:20260420T080125
CREATED:20250416T170006Z
LAST-MODIFIED:20250416T170006Z
UID:21808-1750770000-1750856400@www.augias.net
SUMMARY:KI und Archive - Eine Zeitreise in die Zukunft
DESCRIPTION:Die Landesarchivverwaltung Rheinland-Pfalz und das Bundesarchiv führen am 24. und 25. Juni 2025 einen gemeinsamen Workshop zum Thema „KI und Archive. Eine Reise in die Zukunft“ durch\, der mit Referentinnen und Referenten aus ganz Deutschland\, der Schweiz\, Österreich und Ungarn versucht\, praxisnah und pragmatisch Einsatzmöglichkeiten für KI vorzustellen und weitere Anwendungsfälle zu diskutieren. Die Veranstaltung ist kostenlos. \nDie Veranstaltung findet hybrid statt\, d.h. neben einer Teilnahme in Präsenz ist auch eine rein virtuelle Teilnahme möglich. \n \nProgramm \nPressemitteilung
URL:https://www.augias.net/event/ki-und-archive-eine-zeitreise-in-die-zukunft/
LOCATION:Landeshauptarchiv Koblenz\, Karmeliterstr. 1-3\, 56068 Koblenz
END:VEVENT
END:VCALENDAR