BEGIN:VCALENDAR
VERSION:2.0
PRODID:-//AUGIAS.Net - ECPv6.10.3//NONSGML v1.0//EN
CALSCALE:GREGORIAN
METHOD:PUBLISH
X-ORIGINAL-URL:https://www.augias.net
X-WR-CALDESC:Veranstaltungen für AUGIAS.Net
REFRESH-INTERVAL;VALUE=DURATION:PT1H
X-Robots-Tag:noindex
X-PUBLISHED-TTL:PT1H
BEGIN:VTIMEZONE
TZID:Europe/Berlin
BEGIN:DAYLIGHT
TZOFFSETFROM:+0100
TZOFFSETTO:+0200
TZNAME:CEST
DTSTART:20250330T010000
END:DAYLIGHT
BEGIN:STANDARD
TZOFFSETFROM:+0200
TZOFFSETTO:+0100
TZNAME:CET
DTSTART:20251026T010000
END:STANDARD
END:VTIMEZONE
BEGIN:VEVENT
DTSTART;TZID=Europe/Berlin:20250828T140000
DTEND;TZID=Europe/Berlin:20250918T120000
DTSTAMP:20260420T051504
CREATED:20250820T070026Z
LAST-MODIFIED:20250819T190003Z
UID:22137-1756389600-1758196800@www.augias.net
SUMMARY:Summer Lectures zur digitalen Transformation in Archiven 2025
DESCRIPTION:Online-Vortragsreihe des LVR-Archivberatungs- und Fortbildungszentrums. \nAuch in diesem Jahr startet am ersten Donnerstag nach den Sommerferien in NRW die Online-Vortragsreihe „Summer Lectures zur digitalen Transformation in Archiven“. In vier aufeinander folgenden Wochen präsentiert das LVR-AFZ aktuelle Themen rund um den digitalen Wandel in der Archivarbeit. \n \nDie Online-Vortragsreihe versteht sich als Format\, das neben dem Impuls der Referierenden ausdrücklich auch die Teilnehmenden motivieren möchte\, durch Fragen\, Diskussionen und Erfahrungen aus der eigenen Archivpraxis zu einem fruchtbaren fachlichen Austausch beizutragen. \nFür jede Summer Lecture ist eine separate Anmeldung erforderlich (siehe Ankündigung unten in der Übersicht). Es wird ein Teilnahmeentgelt von 20 € pro Vortrag erhoben. \nDen Auftakt macht am 28. August 2025 von 14-16 Uhr Dr. Andreas Marquet\, Leiter des Referats Infrastrukturen und digitale Grundsatzfragen im Archiv der sozialen Demokratie\, mit seinem Bericht Von Tonarten und Fußballvereinen – Beispiele zum Einsatz der GND aus dem Archiv der sozialen Demokratie über die Erfahrungen mit der Nutzung von Normdaten in der Erschließung. Vor seinem Einblick in die konkrete Anwendung im eigenen Haus\, gibt er eine Einführung in Normdaten\, die GND\, ihre Funktionen und die Beteiligungsmöglichkeiten für Archive.\nHier geht es zur ANMELDUNG. \nAm 4. September 2025 von 10-12 Uhr berichtet Karoline Meyntz\, Leiterin des Stadtarchivs Erkelenz\, unter dem Titel Die KI-gestützte Recherche mit Notebook LM im Stadtarchiv Erkelenz von den Überlegungen und Anforderungen\, die zur Nutzung des KI-Tools Notebook LM geführt haben. Sie stellt das Programm vor und zeigt an konkreten Beispielen\, wie sie es in ihrem Archiv einsetzt.\nHier geht es zur ANMELDUNG. \nAm 11. September 2025 von 10-12 Uhr stellt Dr. Sarah Rudolf\, LVR-AFZ\, unter dem Motto Yes\, we scan! Digitalisierungsprojekte im eigenen Haus durchführen vor\, worauf zu achten ist\, wenn ein oder mehrere Digitalisierungsprojekte im eigenen Haus realisiert werden sollen. Dabei fließen Erfahrungen aus zahlreichen Projekten ein\, die das Digitalisierungszentrum des LVR-AFZ als Projektpartner in enger Kooperation mit den Archiven gemacht hat. Vorgestellt wird auch die neueste\, aus der täglichen Digitalisierungsarbeit resultierende Idee: Das LVR-Scan-Kit.\nHier geht es zur ANMELDUNG. \nLast but not least gibt es auch in diesem Jahr eine SUMMER LECTURE\, die sich den Möglichkeiten für digitale historische Bildunsgarbeit widmet. Am 18. September 2025 von 10-12 Uhr liefert Andreas Weinhold\, Bildungspartner NRW\, Einblicke in BiPaLab NRW – Die Kooperationsplattform auch für Archive. Er stellt den aktuellen Stand und die Zukunftsperspektiven der Plattform vor und wirbt um weitere Lernorte und Lernangebote vonseiten der Archive.\nHier geht es zur ANMELDUNG.
URL:https://www.augias.net/event/summer-lectures-zur-digitalen-transformation-in-archiven-2025/
LOCATION:online
END:VEVENT
END:VCALENDAR