BEGIN:VCALENDAR
VERSION:2.0
PRODID:-//AUGIAS.Net - ECPv6.10.3//NONSGML v1.0//EN
CALSCALE:GREGORIAN
METHOD:PUBLISH
X-ORIGINAL-URL:https://www.augias.net
X-WR-CALDESC:Veranstaltungen für AUGIAS.Net
REFRESH-INTERVAL;VALUE=DURATION:PT1H
X-Robots-Tag:noindex
X-PUBLISHED-TTL:PT1H
BEGIN:VTIMEZONE
TZID:Europe/Berlin
BEGIN:DAYLIGHT
TZOFFSETFROM:+0100
TZOFFSETTO:+0200
TZNAME:CEST
DTSTART:20250330T010000
END:DAYLIGHT
BEGIN:STANDARD
TZOFFSETFROM:+0200
TZOFFSETTO:+0100
TZNAME:CET
DTSTART:20251026T010000
END:STANDARD
END:VTIMEZONE
BEGIN:VEVENT
DTSTART;TZID=Europe/Berlin:20251007T110000
DTEND;TZID=Europe/Berlin:20251009T153000
DTSTAMP:20260420T021930
CREATED:20250409T092636Z
LAST-MODIFIED:20250823T105043Z
UID:21765-1759834800-1760023800@www.augias.net
SUMMARY:92. Deutscher Archivtag/ARCHIVISTICA 2025 in Fulda
DESCRIPTION:Der 92. Deutsche Archivtag findet vom 7. bis 9. Oktober 2025 in Fulda statt. Auf der parallel stattfindenden Fachmesse ARCHIVISTICA stellen Firmen aus den Bereichen Bürotechnik\, EDV\, Mikroverfilmung\, Digitalisierung\, Regalbau und Restaurierung/Konservierung ihre Produkte und Innovationen dem Fachpublikum vor. \nAuf der ARCHIVISTICA finden Sie uns an Stand 6. \nAm 7.10. halten wir im Rahmen des Ausstellerforums von 13:30 Uhr – 13:55 Uhr einen Vortrag. \nEinladung des VdA-Vorsitzenden \nFachprogramm \nRahmenprogramm \nAnmeldung \nARCHIVISTICA 2025 \n 
URL:https://www.augias.net/event/92-deutscher-archivtag-archivistica-2025-in-fulda/
LOCATION:Esperantohalle\, Esperantoplatz 1\, 36037 Fulda
END:VEVENT
END:VCALENDAR