BEGIN:VCALENDAR
VERSION:2.0
PRODID:-//AUGIAS.Net - ECPv6.10.3//NONSGML v1.0//EN
CALSCALE:GREGORIAN
METHOD:PUBLISH
X-WR-CALNAME:AUGIAS.Net
X-ORIGINAL-URL:https://www.augias.net
X-WR-CALDESC:Veranstaltungen für AUGIAS.Net
REFRESH-INTERVAL;VALUE=DURATION:PT1H
X-Robots-Tag:noindex
X-PUBLISHED-TTL:PT1H
BEGIN:VTIMEZONE
TZID:Europe/Berlin
BEGIN:DAYLIGHT
TZOFFSETFROM:+0100
TZOFFSETTO:+0200
TZNAME:CEST
DTSTART:20260329T010000
END:DAYLIGHT
BEGIN:STANDARD
TZOFFSETFROM:+0200
TZOFFSETTO:+0100
TZNAME:CET
DTSTART:20261025T010000
END:STANDARD
END:VTIMEZONE
BEGIN:VEVENT
DTSTART;VALUE=DATE:20260317
DTEND;VALUE=DATE:20260319
DTSTAMP:20260419T195651
CREATED:20260207T165655Z
LAST-MODIFIED:20260314T095709Z
UID:22511-1773705600-1773878399@www.augias.net
SUMMARY:77. Westfälischer Archivtag
DESCRIPTION:Der 77. Westfälische Archivtag findet am 17. und 18. März 2026 in Castrop-Rauxel statt. Das Thema lautet „Analog und digital – Fachgerechtes (Web)Archivieren\, Speichern und Lagern im Archiv“. \n \nEinladung \nProgramm \nAnmeldung
URL:https://www.augias.net/event/77-westfaelischer-archivtag/
LOCATION:Stadthalle\, Europaplatz 10\, 44575 Castrop-Rauxel
ORGANIZER;CN="LWL-Archivamt f%C3%BCr Westfalen":MAILTO:LWL-Archivamt@lwl.org
END:VEVENT
END:VCALENDAR